BEGIN:VCALENDAR
VERSION:2.0
PRODID:-//Niles / Chicago - ECPv6.6.4.2//NONSGML v1.0//EN
CALSCALE:GREGORIAN
METHOD:PUBLISH
X-WR-CALNAME:Niles / Chicago
X-ORIGINAL-URL:https://nil.skyhighsports.com
X-WR-CALDESC:Events for Niles / Chicago
REFRESH-INTERVAL;VALUE=DURATION:PT1H
X-Robots-Tag:noindex
X-PUBLISHED-TTL:PT1H
BEGIN:VTIMEZONE
TZID:America/Chicago
BEGIN:DAYLIGHT
TZOFFSETFROM:-0600
TZOFFSETTO:-0500
TZNAME:CDT
DTSTART:20230312T080000
END:DAYLIGHT
BEGIN:STANDARD
TZOFFSETFROM:-0500
TZOFFSETTO:-0600
TZNAME:CST
DTSTART:20231105T070000
END:STANDARD
TZID:America/Detroit
BEGIN:DAYLIGHT
TZOFFSETFROM:-0500
TZOFFSETTO:-0400
TZNAME:EDT
DTSTART:20230312T070000
END:DAYLIGHT
BEGIN:STANDARD
TZOFFSETFROM:-0400
TZOFFSETTO:-0500
TZNAME:EST
DTSTART:20231105T060000
END:STANDARD
END:VTIMEZONE
BEGIN:VEVENT
DTSTART;TZID=America/Chicago:20230712T100000
DTEND;TZID=America/Chicago:20230712T143000
DTSTAMP:20260420T103222
CREATED:20171013T170901Z
LAST-MODIFIED:20171013T170901Z
UID:11698-1689156000-1689172200@nil.skyhighsports.com
SUMMARY:Mom and Tot
DESCRIPTION:Mom and Tot Time! \nMonday-Friday 10am-2:30pm \nAccess to BOTH the inflatables & the trampolines! \n$15 per child\, parents free! (grip socks required) \n  \n 
URL:https://nil.skyhighsports.com/event/halloween-mom-and-tot-time-10am-12pm-2023-07-12/
END:VEVENT
BEGIN:VEVENT
DTSTART;VALUE=DATE:20230713
DTEND;VALUE=DATE:20230714
DTSTAMP:20260420T103222
CREATED:20170427T155536Z
LAST-MODIFIED:20170427T155536Z
UID:11177-1689206400-1689220800@nil.skyhighsports.com
SUMMARY:Climb Into Thursday
DESCRIPTION:Add on our climbing center at $5 per person with any jump time purchase! \n30 minute time limit
URL:https://nil.skyhighsports.com/event/family-pizza-night-2023-07-13/
END:VEVENT
BEGIN:VEVENT
DTSTART;TZID=America/Detroit:20230713T100000
DTEND;TZID=America/Detroit:20230713T143000
DTSTAMP:20260420T103222
CREATED:20220902T223558Z
LAST-MODIFIED:20220902T223558Z
UID:11803-1689242400-1689258600@nil.skyhighsports.com
SUMMARY:Mom and Tot
DESCRIPTION:Mom and Tot Time! \nMonday-Friday 10am-2:30pm \nAccess to BOTH the inflatables & the trampolines! \n$15 per child\, parents free! (grip socks required)
URL:https://nil.skyhighsports.com/event/mom-and-tot-2023-07-13/
END:VEVENT
BEGIN:VEVENT
DTSTART;VALUE=DATE:20230714
DTEND;VALUE=DATE:20230715
DTSTAMP:20260420T103222
CREATED:20170427T160048Z
LAST-MODIFIED:20220902T193918Z
UID:11281-1689292800-1689303600@nil.skyhighsports.com
SUMMARY:After Dark
DESCRIPTION:After Dark Friday & Saturday nights! 7:00PM-10:00PM! \n$21.95 for 3 hours of jump time! \nWe turn the lights down and the music up!
URL:https://nil.skyhighsports.com/event/after-dark-2-2023-07-14/
END:VEVENT
BEGIN:VEVENT
DTSTART;VALUE=DATE:20230715
DTEND;VALUE=DATE:20230716
DTSTAMP:20260420T103222
CREATED:20170427T155939Z
LAST-MODIFIED:20170427T155939Z
UID:11385-1689379200-1689390000@nil.skyhighsports.com
SUMMARY:After Dark
DESCRIPTION:  \nAfter Dark Friday & Saturday Nights! 7:00PM-10:00PM \n$21.95 for 3 hours of jump time! \nWe turn the lights down and the music up!
URL:https://nil.skyhighsports.com/event/after-dark-2023-07-15/
END:VEVENT
BEGIN:VEVENT
DTSTART;TZID=America/Detroit:20230717T100000
DTEND;TZID=America/Detroit:20230717T143000
DTSTAMP:20260420T103222
CREATED:20220902T223758Z
LAST-MODIFIED:20220902T223758Z
UID:12013-1689588000-1689604200@nil.skyhighsports.com
SUMMARY:Mom and Tot
DESCRIPTION:Mom and Tot Time! \nMonday-Friday 10am-2:30pm \nAccess to BOTH the inflatables & the trampolines! \n$15 per child\, parents free! (grip socks required)
URL:https://nil.skyhighsports.com/event/mom-and-tot-3-2023-07-17/
END:VEVENT
BEGIN:VEVENT
DTSTART;VALUE=DATE:20230718
DTEND;VALUE=DATE:20230719
DTSTAMP:20260420T103222
CREATED:20170427T154851Z
LAST-MODIFIED:20170427T154851Z
UID:10967-1689638400-1689645600@nil.skyhighsports.com
SUMMARY:Hoppy Hour
DESCRIPTION:  \nHoppy Hour \nEvery Tuesday \n$18 for 2 hours of jump time!
URL:https://nil.skyhighsports.com/event/hoppy-hour-29-2023-07-18/
END:VEVENT
BEGIN:VEVENT
DTSTART;TZID=America/Chicago:20230718T100000
DTEND;TZID=America/Chicago:20230718T143000
DTSTAMP:20260420T103222
CREATED:20170427T152845Z
LAST-MODIFIED:20170427T152845Z
UID:11595-1689674400-1689690600@nil.skyhighsports.com
SUMMARY:Mom and Tot
DESCRIPTION:  \nMom and Tot Time! \nMonday-Friday 10am-2:30pm \nAccess to BOTH the inflatables & the trampolines! \n$15 per child\, parents free! (grip socks required) \n 
URL:https://nil.skyhighsports.com/event/mom-and-tot-time-4-2023-07-18/
END:VEVENT
BEGIN:VEVENT
DTSTART;TZID=America/Chicago:20230718T160000
DTEND;TZID=America/Chicago:20230718T180000
DTSTAMP:20260420T103222
CREATED:20190927T124025Z
LAST-MODIFIED:20220902T191742Z
UID:9078-1689696000-1689703200@nil.skyhighsports.com
SUMMARY:Special Needs Tuesday
DESCRIPTION:$5 each jumper with one parent or therapist FREE.\n4:00pm-6:00pm\, no music and welcome everyone to join in on the fun! \n 
URL:https://nil.skyhighsports.com/event/special-needs-tuesday-2023-07-18/
LOCATION:Sky High Sports Niles\, 6424 Howard St.\, Niles\, IL\, 60714\, United States
END:VEVENT
BEGIN:VEVENT
DTSTART;VALUE=DATE:20230719
DTEND;VALUE=DATE:20230720
DTSTAMP:20260420T103222
CREATED:20190927T124803Z
LAST-MODIFIED:20190927T124803Z
UID:11071-1689724800-1689724800@nil.skyhighsports.com
SUMMARY:Wednesday Family Night
DESCRIPTION:$50 includes 2 hours of jumping for a family of 4\, a large (one-topping) pizza\, and a pitcher of soda!\nAdditional jumpers $12 \n 
URL:https://nil.skyhighsports.com/event/family-pizza-night-thursday-2023-07-19/
LOCATION:Sky High Sports Niles\, 6424 Howard St.\, Niles\, IL\, 60714\, United States
END:VEVENT
BEGIN:VEVENT
DTSTART;TZID=America/Chicago:20230719T100000
DTEND;TZID=America/Chicago:20230719T143000
DTSTAMP:20260420T103222
CREATED:20171013T170901Z
LAST-MODIFIED:20171013T170901Z
UID:11699-1689760800-1689777000@nil.skyhighsports.com
SUMMARY:Mom and Tot
DESCRIPTION:Mom and Tot Time! \nMonday-Friday 10am-2:30pm \nAccess to BOTH the inflatables & the trampolines! \n$15 per child\, parents free! (grip socks required) \n  \n 
URL:https://nil.skyhighsports.com/event/halloween-mom-and-tot-time-10am-12pm-2023-07-19/
END:VEVENT
BEGIN:VEVENT
DTSTART;VALUE=DATE:20230720
DTEND;VALUE=DATE:20230721
DTSTAMP:20260420T103222
CREATED:20170427T155536Z
LAST-MODIFIED:20170427T155536Z
UID:11178-1689811200-1689825600@nil.skyhighsports.com
SUMMARY:Climb Into Thursday
DESCRIPTION:Add on our climbing center at $5 per person with any jump time purchase! \n30 minute time limit
URL:https://nil.skyhighsports.com/event/family-pizza-night-2023-07-20/
END:VEVENT
BEGIN:VEVENT
DTSTART;TZID=America/Detroit:20230720T100000
DTEND;TZID=America/Detroit:20230720T143000
DTSTAMP:20260420T103222
CREATED:20220902T223558Z
LAST-MODIFIED:20220902T223558Z
UID:11804-1689847200-1689863400@nil.skyhighsports.com
SUMMARY:Mom and Tot
DESCRIPTION:Mom and Tot Time! \nMonday-Friday 10am-2:30pm \nAccess to BOTH the inflatables & the trampolines! \n$15 per child\, parents free! (grip socks required)
URL:https://nil.skyhighsports.com/event/mom-and-tot-2023-07-20/
END:VEVENT
BEGIN:VEVENT
DTSTART;VALUE=DATE:20230721
DTEND;VALUE=DATE:20230722
DTSTAMP:20260420T103222
CREATED:20170427T160048Z
LAST-MODIFIED:20220902T193918Z
UID:11282-1689897600-1689908400@nil.skyhighsports.com
SUMMARY:After Dark
DESCRIPTION:After Dark Friday & Saturday nights! 7:00PM-10:00PM! \n$21.95 for 3 hours of jump time! \nWe turn the lights down and the music up!
URL:https://nil.skyhighsports.com/event/after-dark-2-2023-07-21/
END:VEVENT
BEGIN:VEVENT
DTSTART;VALUE=DATE:20230722
DTEND;VALUE=DATE:20230723
DTSTAMP:20260420T103222
CREATED:20170427T155939Z
LAST-MODIFIED:20170427T155939Z
UID:11386-1689984000-1689994800@nil.skyhighsports.com
SUMMARY:After Dark
DESCRIPTION:  \nAfter Dark Friday & Saturday Nights! 7:00PM-10:00PM \n$21.95 for 3 hours of jump time! \nWe turn the lights down and the music up!
URL:https://nil.skyhighsports.com/event/after-dark-2023-07-22/
END:VEVENT
BEGIN:VEVENT
DTSTART;TZID=America/Detroit:20230724T100000
DTEND;TZID=America/Detroit:20230724T143000
DTSTAMP:20260420T103222
CREATED:20220902T223758Z
LAST-MODIFIED:20220902T223758Z
UID:12014-1690192800-1690209000@nil.skyhighsports.com
SUMMARY:Mom and Tot
DESCRIPTION:Mom and Tot Time! \nMonday-Friday 10am-2:30pm \nAccess to BOTH the inflatables & the trampolines! \n$15 per child\, parents free! (grip socks required)
URL:https://nil.skyhighsports.com/event/mom-and-tot-3-2023-07-24/
END:VEVENT
BEGIN:VEVENT
DTSTART;VALUE=DATE:20230725
DTEND;VALUE=DATE:20230726
DTSTAMP:20260420T103222
CREATED:20170427T154851Z
LAST-MODIFIED:20170427T154851Z
UID:10968-1690243200-1690250400@nil.skyhighsports.com
SUMMARY:Hoppy Hour
DESCRIPTION:  \nHoppy Hour \nEvery Tuesday \n$18 for 2 hours of jump time!
URL:https://nil.skyhighsports.com/event/hoppy-hour-29-2023-07-25/
END:VEVENT
BEGIN:VEVENT
DTSTART;TZID=America/Chicago:20230725T100000
DTEND;TZID=America/Chicago:20230725T143000
DTSTAMP:20260420T103222
CREATED:20170427T152845Z
LAST-MODIFIED:20170427T152845Z
UID:11596-1690279200-1690295400@nil.skyhighsports.com
SUMMARY:Mom and Tot
DESCRIPTION:  \nMom and Tot Time! \nMonday-Friday 10am-2:30pm \nAccess to BOTH the inflatables & the trampolines! \n$15 per child\, parents free! (grip socks required) \n 
URL:https://nil.skyhighsports.com/event/mom-and-tot-time-4-2023-07-25/
END:VEVENT
BEGIN:VEVENT
DTSTART;TZID=America/Chicago:20230725T160000
DTEND;TZID=America/Chicago:20230725T180000
DTSTAMP:20260420T103222
CREATED:20190927T124025Z
LAST-MODIFIED:20220902T191742Z
UID:9079-1690300800-1690308000@nil.skyhighsports.com
SUMMARY:Special Needs Tuesday
DESCRIPTION:$5 each jumper with one parent or therapist FREE.\n4:00pm-6:00pm\, no music and welcome everyone to join in on the fun! \n 
URL:https://nil.skyhighsports.com/event/special-needs-tuesday-2023-07-25/
LOCATION:Sky High Sports Niles\, 6424 Howard St.\, Niles\, IL\, 60714\, United States
END:VEVENT
BEGIN:VEVENT
DTSTART;VALUE=DATE:20230726
DTEND;VALUE=DATE:20230727
DTSTAMP:20260420T103222
CREATED:20190927T124803Z
LAST-MODIFIED:20190927T124803Z
UID:11072-1690329600-1690329600@nil.skyhighsports.com
SUMMARY:Wednesday Family Night
DESCRIPTION:$50 includes 2 hours of jumping for a family of 4\, a large (one-topping) pizza\, and a pitcher of soda!\nAdditional jumpers $12 \n 
URL:https://nil.skyhighsports.com/event/family-pizza-night-thursday-2023-07-26/
LOCATION:Sky High Sports Niles\, 6424 Howard St.\, Niles\, IL\, 60714\, United States
END:VEVENT
BEGIN:VEVENT
DTSTART;TZID=America/Chicago:20230726T100000
DTEND;TZID=America/Chicago:20230726T143000
DTSTAMP:20260420T103222
CREATED:20171013T170901Z
LAST-MODIFIED:20171013T170901Z
UID:11700-1690365600-1690381800@nil.skyhighsports.com
SUMMARY:Mom and Tot
DESCRIPTION:Mom and Tot Time! \nMonday-Friday 10am-2:30pm \nAccess to BOTH the inflatables & the trampolines! \n$15 per child\, parents free! (grip socks required) \n  \n 
URL:https://nil.skyhighsports.com/event/halloween-mom-and-tot-time-10am-12pm-2023-07-26/
END:VEVENT
BEGIN:VEVENT
DTSTART;VALUE=DATE:20230727
DTEND;VALUE=DATE:20230728
DTSTAMP:20260420T103222
CREATED:20170427T155536Z
LAST-MODIFIED:20170427T155536Z
UID:11179-1690416000-1690430400@nil.skyhighsports.com
SUMMARY:Climb Into Thursday
DESCRIPTION:Add on our climbing center at $5 per person with any jump time purchase! \n30 minute time limit
URL:https://nil.skyhighsports.com/event/family-pizza-night-2023-07-27/
END:VEVENT
BEGIN:VEVENT
DTSTART;TZID=America/Detroit:20230727T100000
DTEND;TZID=America/Detroit:20230727T143000
DTSTAMP:20260420T103222
CREATED:20220902T223558Z
LAST-MODIFIED:20220902T223558Z
UID:11805-1690452000-1690468200@nil.skyhighsports.com
SUMMARY:Mom and Tot
DESCRIPTION:Mom and Tot Time! \nMonday-Friday 10am-2:30pm \nAccess to BOTH the inflatables & the trampolines! \n$15 per child\, parents free! (grip socks required)
URL:https://nil.skyhighsports.com/event/mom-and-tot-2023-07-27/
END:VEVENT
BEGIN:VEVENT
DTSTART;VALUE=DATE:20230728
DTEND;VALUE=DATE:20230729
DTSTAMP:20260420T103222
CREATED:20170427T160048Z
LAST-MODIFIED:20220902T193918Z
UID:11283-1690502400-1690513200@nil.skyhighsports.com
SUMMARY:After Dark
DESCRIPTION:After Dark Friday & Saturday nights! 7:00PM-10:00PM! \n$21.95 for 3 hours of jump time! \nWe turn the lights down and the music up!
URL:https://nil.skyhighsports.com/event/after-dark-2-2023-07-28/
END:VEVENT
BEGIN:VEVENT
DTSTART;VALUE=DATE:20230729
DTEND;VALUE=DATE:20230730
DTSTAMP:20260420T103222
CREATED:20170427T155939Z
LAST-MODIFIED:20170427T155939Z
UID:11387-1690588800-1690599600@nil.skyhighsports.com
SUMMARY:After Dark
DESCRIPTION:  \nAfter Dark Friday & Saturday Nights! 7:00PM-10:00PM \n$21.95 for 3 hours of jump time! \nWe turn the lights down and the music up!
URL:https://nil.skyhighsports.com/event/after-dark-2023-07-29/
END:VEVENT
BEGIN:VEVENT
DTSTART;TZID=America/Detroit:20230731T100000
DTEND;TZID=America/Detroit:20230731T143000
DTSTAMP:20260420T103222
CREATED:20220902T223758Z
LAST-MODIFIED:20220902T223758Z
UID:12015-1690797600-1690813800@nil.skyhighsports.com
SUMMARY:Mom and Tot
DESCRIPTION:Mom and Tot Time! \nMonday-Friday 10am-2:30pm \nAccess to BOTH the inflatables & the trampolines! \n$15 per child\, parents free! (grip socks required)
URL:https://nil.skyhighsports.com/event/mom-and-tot-3-2023-07-31/
END:VEVENT
BEGIN:VEVENT
DTSTART;VALUE=DATE:20230801
DTEND;VALUE=DATE:20230802
DTSTAMP:20260420T103222
CREATED:20170427T154851Z
LAST-MODIFIED:20170427T154851Z
UID:10969-1690848000-1690855200@nil.skyhighsports.com
SUMMARY:Hoppy Hour
DESCRIPTION:  \nHoppy Hour \nEvery Tuesday \n$18 for 2 hours of jump time!
URL:https://nil.skyhighsports.com/event/hoppy-hour-29-2023-08-01/
END:VEVENT
BEGIN:VEVENT
DTSTART;TZID=America/Chicago:20230801T100000
DTEND;TZID=America/Chicago:20230801T143000
DTSTAMP:20260420T103222
CREATED:20170427T152845Z
LAST-MODIFIED:20170427T152845Z
UID:11597-1690884000-1690900200@nil.skyhighsports.com
SUMMARY:Mom and Tot
DESCRIPTION:  \nMom and Tot Time! \nMonday-Friday 10am-2:30pm \nAccess to BOTH the inflatables & the trampolines! \n$15 per child\, parents free! (grip socks required) \n 
URL:https://nil.skyhighsports.com/event/mom-and-tot-time-4-2023-08-01/
END:VEVENT
BEGIN:VEVENT
DTSTART;TZID=America/Chicago:20230801T160000
DTEND;TZID=America/Chicago:20230801T180000
DTSTAMP:20260420T103222
CREATED:20190927T124025Z
LAST-MODIFIED:20220902T191742Z
UID:9080-1690905600-1690912800@nil.skyhighsports.com
SUMMARY:Special Needs Tuesday
DESCRIPTION:$5 each jumper with one parent or therapist FREE.\n4:00pm-6:00pm\, no music and welcome everyone to join in on the fun! \n 
URL:https://nil.skyhighsports.com/event/special-needs-tuesday-2023-08-01/
LOCATION:Sky High Sports Niles\, 6424 Howard St.\, Niles\, IL\, 60714\, United States
END:VEVENT
BEGIN:VEVENT
DTSTART;VALUE=DATE:20230802
DTEND;VALUE=DATE:20230803
DTSTAMP:20260420T103222
CREATED:20190927T124803Z
LAST-MODIFIED:20190927T124803Z
UID:11073-1690934400-1690934400@nil.skyhighsports.com
SUMMARY:Wednesday Family Night
DESCRIPTION:$50 includes 2 hours of jumping for a family of 4\, a large (one-topping) pizza\, and a pitcher of soda!\nAdditional jumpers $12 \n 
URL:https://nil.skyhighsports.com/event/family-pizza-night-thursday-2023-08-02/
LOCATION:Sky High Sports Niles\, 6424 Howard St.\, Niles\, IL\, 60714\, United States
END:VEVENT
END:VCALENDAR